BEGIN:VCALENDAR
VERSION:2.0
PRODID:icalendar-ruby
CALSCALE:GREGORIAN
METHOD:PUBLISH
BEGIN:VEVENT
DTSTAMP:20260425T195256Z
UID:https://www.volkswagen-group.com/de/termine/german-corporate-conference
 -frankfurt-445
DTSTART;VALUE=DATE:20260120
DTEND;VALUE=DATE:20260120
DESCRIPTION:https://www.volkswagen-group.com/de/termine/german-corporate-co
 nference-frankfurt-445?follow
SEQUENCE:1777146776
SUMMARY:German Corporate Conference - Frankfurt
END:VEVENT
END:VCALENDAR
