BEGIN:VCALENDAR
VERSION:2.0
PRODID:icalendar-ruby
CALSCALE:GREGORIAN
METHOD:PUBLISH
BEGIN:VEVENT
DTSTAMP:20260425T032702Z
UID:https://www.volkswagen-group.com/de/termine/halbjahresfinanzbericht-202
 6-483
DTSTART;VALUE=DATE:20260724
DTEND;VALUE=DATE:20260724
DESCRIPTION:https://www.volkswagen-group.com/de/termine/halbjahresfinanzber
 icht-2026-483?follow
SEQUENCE:1777087622
SUMMARY:Halbjahresfinanzbericht 2026
END:VEVENT
END:VCALENDAR
