BEGIN:VCALENDAR
VERSION:2.0
PRODID:icalendar-ruby
CALSCALE:GREGORIAN
METHOD:PUBLISH
BEGIN:VEVENT
DTSTAMP:20260425T032748Z
UID:https://www.volkswagen-group.com/de/termine/hauptversammlung-der-volksw
 agen-ag-441
DTSTART;VALUE=DATE:20260618
DTEND;VALUE=DATE:20260618
DESCRIPTION:https://www.volkswagen-group.com/de/termine/hauptversammlung-de
 r-volkswagen-ag-441?follow
SEQUENCE:1777087668
SUMMARY:Hauptversammlung der Volkswagen AG
END:VEVENT
END:VCALENDAR
