BEGIN:VCALENDAR
VERSION:2.0
PRODID:icalendar-ruby
CALSCALE:GREGORIAN
METHOD:PUBLISH
BEGIN:VEVENT
DTSTAMP:20260425T195246Z
UID:https://www.volkswagen-group.com/de/termine/ir-roadshow-dublin-edinburg
 h-480
DTSTART;VALUE=DATE:20260318
DTEND;VALUE=DATE:20260320
DESCRIPTION:https://www.volkswagen-group.com/de/termine/ir-roadshow-dublin-
 edinburgh-480?follow
SEQUENCE:1777146766
SUMMARY:IR Roadshow Dublin & Edinburgh
END:VEVENT
END:VCALENDAR
