BEGIN:VCALENDAR
VERSION:2.0
PRODID:icalendar-ruby
CALSCALE:GREGORIAN
METHOD:PUBLISH
BEGIN:VEVENT
DTSTAMP:20260425T195154Z
UID:https://www.volkswagen-group.com/de/termine/one-stop-shop-milan-477
DTSTART;VALUE=DATE:20260318
DTEND;VALUE=DATE:20260318
DESCRIPTION:https://www.volkswagen-group.com/de/termine/one-stop-shop-milan
 -477?follow
SEQUENCE:1777146714
SUMMARY:One-Stop-Shop Milan
END:VEVENT
END:VCALENDAR
