BEGIN:VCALENDAR
VERSION:2.0
PRODID:icalendar-ruby
CALSCALE:GREGORIAN
METHOD:PUBLISH
BEGIN:VEVENT
DTSTAMP:20260425T194941Z
UID:https://www.volkswagen-group.com/de/termine/q1-preclose-conference-call
 -519
DTSTART;VALUE=DATE:20260414
DTEND;VALUE=DATE:20260414
DESCRIPTION:https://www.volkswagen-group.com/de/termine/q1-preclose-confere
 nce-call-519?follow
SEQUENCE:1777146581
SUMMARY:Q1 PreClose Conference Call
END:VEVENT
END:VCALENDAR
