BEGIN:VCALENDAR
VERSION:2.0
PRODID:icalendar-ruby
CALSCALE:GREGORIAN
METHOD:PUBLISH
BEGIN:VEVENT
DTSTAMP:20260423T103411Z
UID:https://www.volkswagen-group.com/de/termine/zwischenbericht-januar-maer
 z-2026-482
DTSTART;VALUE=DATE:20260430
DTEND;VALUE=DATE:20260430
DESCRIPTION:https://www.volkswagen-group.com/de/termine/zwischenbericht-jan
 uar-maerz-2026-482?follow
SEQUENCE:1776940451
SUMMARY:Zwischenbericht Januar - März 2026
END:VEVENT
END:VCALENDAR
