BEGIN:VCALENDAR
VERSION:2.0
PRODID:icalendar-ruby
CALSCALE:GREGORIAN
METHOD:PUBLISH
BEGIN:VEVENT
DTSTAMP:20260425T181326Z
UID:https://www.volkswagen-group.com/de/termine/zwischenbericht-januar-sept
 ember-2026-484
DTSTART;VALUE=DATE:20261029
DTEND;VALUE=DATE:20261029
DESCRIPTION:https://www.volkswagen-group.com/de/termine/zwischenbericht-jan
 uar-september-2026-484?follow
SEQUENCE:1777140806
SUMMARY:Zwischenbericht Januar - September 2026
END:VEVENT
END:VCALENDAR
