BEGIN:VCALENDAR
VERSION:2.0
PRODID:icalendar-ruby
CALSCALE:GREGORIAN
METHOD:PUBLISH
BEGIN:VEVENT
DTSTAMP:20260420T125020Z
UID:https://www.volkswagen-group.com/en/events/half-yearly-financial-report
 -2026-483
DTSTART;VALUE=DATE:20260724
DTEND;VALUE=DATE:20260724
DESCRIPTION:https://www.volkswagen-group.com/en/events/half-yearly-financia
 l-report-2026-483?follow
SEQUENCE:1776689420
SUMMARY:Half-Yearly Financial Report 2026
END:VEVENT
END:VCALENDAR
