BEGIN:VCALENDAR
VERSION:2.0
PRODID:icalendar-ruby
CALSCALE:GREGORIAN
METHOD:PUBLISH
BEGIN:VEVENT
DTSTAMP:20260420T124924Z
UID:https://www.volkswagen-group.com/en/events/interim-report-january-march
 -2026-482
DTSTART;VALUE=DATE:20260430
DTEND;VALUE=DATE:20260430
DESCRIPTION:https://www.volkswagen-group.com/en/events/interim-report-janua
 ry-march-2026-482?follow
SEQUENCE:1776689364
SUMMARY:Interim Report January – March 2026
END:VEVENT
END:VCALENDAR
