BEGIN:VCALENDAR
VERSION:2.0
PRODID:icalendar-ruby
CALSCALE:GREGORIAN
METHOD:PUBLISH
BEGIN:VEVENT
DTSTAMP:20260420T124924Z
UID:https://www.volkswagen-group.com/en/events/interim-report-january-septe
 mber-2026-484
DTSTART;VALUE=DATE:20261029
DTEND;VALUE=DATE:20261029
DESCRIPTION:https://www.volkswagen-group.com/en/events/interim-report-janua
 ry-september-2026-484?follow
SEQUENCE:1776689364
SUMMARY:Interim Report January – September 2026
END:VEVENT
END:VCALENDAR
