BEGIN:VCALENDAR
VERSION:2.0
PRODID:icalendar-ruby
CALSCALE:GREGORIAN
METHOD:PUBLISH
BEGIN:VEVENT
DTSTAMP:20260420T125020Z
UID:https://www.volkswagen-group.com/en/events/volkswagen-group-china-inves
 tor-update-2026-481
DTSTART;VALUE=DATE:20260423
DTEND;VALUE=DATE:20260423
DESCRIPTION:https://www.volkswagen-group.com/en/events/volkswagen-group-chi
 na-investor-update-2026-481?follow
LOCATION:Beijing
SEQUENCE:1776689420
SUMMARY:Volkswagen Group China Investor Update 2026
END:VEVENT
END:VCALENDAR
